BEGIN:VCALENDAR
VERSION:2.0
PRODID:icalendar-ruby
CALSCALE:GREGORIAN
METHOD:PUBLISH
BEGIN:VEVENT
DTSTAMP:20260420T114838Z
UID:28-301700@lebanoncbc.org
DTSTART:20260515T013000Z
DTEND:20260515T033000Z
CLASS:PUBLIC
CREATED:20260414T131406
DESCRIPTION:We hope you'll join us for a casual evening of tea\, dessert\, 
 and hearing the testimony of one of our ladies. All are welcome\; bring a 
 friend!
LAST-MODIFIED:20260414T131406
LOCATION:Community Bible Church
SUMMARY:Tea & Testimony
URL;VALUE=URI:https://www.lebanoncbc.org/events/tea-testimony/2026-05-14
ATTACH;FILENAME=cup-829527_1280.jpg;FMTTYPE=image/jpeg:https://dq5pwpg1q8ru
 0.cloudfront.net/2025/02/26/22/00/37/7099b114-19a0-4fa3-a4a3-d4babf8c3829/
 cup-829527_1280.jpg
END:VEVENT
END:VCALENDAR
